BEGIN:VCALENDAR
VERSION:2.0
PRODID:-//eventon.com NONSGML v1.0//EN
CALSCALE:GREGORIAN
METHOD:PUBLISH
BEGIN:VEVENT
UID:69e89e34a5129
DTSTAMP:20260422T100852Z
DTSTART:20201021T170000Z
DTEND:20201021T183000Z
LOCATION:
SUMMARY:Hitel-est
DESCRIPTION:\nhttps://momkult.hu/events/hitel-est-14/
URL:https://momkult.hu/events/hitel-est-14/
END:VEVENT
END:VCALENDAR