BEGIN:VCALENDAR
VERSION:2.0
PRODID:-//eventon.com NONSGML v1.0//EN
CALSCALE:GREGORIAN
METHOD:PUBLISH
BEGIN:VEVENT
UID:69e8b33348042
DTSTAMP:20260422T113827Z
DTSTART:20200916T170000Z
DTEND:20200916T183000Z
LOCATION:
SUMMARY:Hitel-est
DESCRIPTION:B. Révész László\,  Léka Géza\,  Nagy Gábor\,  Orosz Ist
 ván\, \nhttps://momkult.hu/events/hitel-est-13/
URL:https://momkult.hu/events/hitel-est-13/
END:VEVENT
END:VCALENDAR