BEGIN:VCALENDAR
VERSION:2.0
PRODID:-//eventon.com NONSGML v1.0//EN
CALSCALE:GREGORIAN
METHOD:PUBLISH
BEGIN:VEVENT
UID:69e877e1d848c
DTSTAMP:20260422T072521Z
DTSTART:20201219T193000Z
DTEND:20201219T210000Z
LOCATION:
SUMMARY:Befogad és kitaszít a világ | Mácsai Pál és Huzella Péter Villon-estje
DESCRIPTION:Az előadás új időpontban\,  2021. 03. 23-án kerül megrend
 ezésre. (eredeti időpont: 2020. 12. 19.\,    új időpont: 2021.03.23.)
  ZSIMÜ közleménye: Tisztelt Közönségünk! A 2020. november 9-én beje
 lentett korlátozások értelmében minden idei évre tervezett előadásun
 kat jövő év tavaszára halasztjuk. Folyamatosan dolgozunk\,  hogy minél
  előbb tájékoztathassuk Önöket a konkrét időpontokról\,  helyszíne
 kről! A megváltott[..]\nhttps://momkult.hu/events/befogad-es-kitaszit-a-v
 ilag-macsai-pal-es-huzella-peter-villon-estje/
URL:https://momkult.hu/events/befogad-es-kitaszit-a-vilag-macsai-pal-es-huzella-peter-villon-estje/
END:VEVENT
END:VCALENDAR