BEGIN:VCALENDAR
VERSION:2.0
PRODID:-//eventon.com NONSGML v1.0//EN
CALSCALE:GREGORIAN
METHOD:PUBLISH
BEGIN:VEVENT
UID:69e8b20b0bacb
DTSTAMP:20260422T113331Z
DTSTART:20200913T090000Z
DTEND:20200913T170000Z
LOCATION:
SUMMARY:Kiskertpiac - Őszkert
DESCRIPTION:A kiskertpiac rendhagyó eseménye BUDÁN a napsütéses Sirál
 y sétányon! növény – gasztronómia – natúr szépségápolás és t
 ermészetes dizájn bemutató és vásár A rendezvény kutyabarát!\nhttps
 ://momkult.hu/events/kiskertpiac-oszkert/
URL:https://momkult.hu/events/kiskertpiac-oszkert/
END:VEVENT
END:VCALENDAR