BEGIN:VCALENDAR
VERSION:2.0
PRODID:-//eventon.com NONSGML v1.0//EN
CALSCALE:GREGORIAN
METHOD:PUBLISH
BEGIN:VEVENT
UID:69e88d1660d61
DTSTAMP:20260422T085550Z
DTSTART:20201120T200000Z
DTEND:20201120T220000Z
LOCATION:
SUMMARY:Zurgó | koncert és mese
DESCRIPTION:Moldvai csángó népzene\,  mese\,  daltanítás.  Szeretette
 l várjuk régi és új ismerőseinket\,  barátainkat. Elmarad\nhttps://mo
 mkult.hu/events/zurgo-15/
URL:https://momkult.hu/events/zurgo-15/
END:VEVENT
END:VCALENDAR