BEGIN:VCALENDAR
VERSION:2.0
PRODID:-//eventon.com NONSGML v1.0//EN
CALSCALE:GREGORIAN
METHOD:PUBLISH
BEGIN:VEVENT
UID:69e89e2ee99a1
DTSTAMP:20260422T100846Z
DTSTART:20201008T183000Z
DTEND:20201008T194500Z
LOCATION:
SUMMARY:Urban Verbunk I RÃ³zsa Story
DESCRIPTION:Tisztelt LÃ¡togatÃ³k\,  kedves VendÃ©geink! A jÃ¡rvÃ¡nyÃ¼gyi ko
 rlÃ¡tozÃ¡sok miatt a produkciÃ³ kÃ¼lfÃ¶ldi vendÃ©gmÅ±vÃ©sz szerepeltetÃ©se 
 miatt nem tud megvalÃ³sulni oktÃ³ber 8-Ã¡n. Az egyeztetÃ©sek nyomÃ¡n az elÅ
 ‘adÃ¡s 2021. mÃ¡jus 19-Ã©n kerÃ¼lt megtartÃ¡sra. Amennyiben mÃ¡r van megvÃ¡
 sÃ¡rolt jegye\,  az Ã©rvÃ©nyes a mÃ¡jusi elÅ‘adÃ¡sra\,  ha az Ãºj idÅ‘pont 
 Ã–nnek nem megfelelÅ‘\,  kÃ©rem vegye fel a[..]\nhttps://momkult.hu/events/
 rozsa-story-urban-verbunk-tarsulat/
URL:https://momkult.hu/events/rozsa-story-urban-verbunk-tarsulat/
END:VEVENT
END:VCALENDAR