BEGIN:VCALENDAR
VERSION:2.0
PRODID:-//eventon.com NONSGML v1.0//EN
CALSCALE:GREGORIAN
METHOD:PUBLISH
BEGIN:VEVENT
UID:69e8dabd8d352
DTSTAMP:20260422T142709Z
DTSTART:20200904T084500Z
DTEND:20200904T163500Z
LOCATION:
SUMMARY:Forbes Women's Summit
DESCRIPTION:A márciusra tervezett esemény\,  a Forbes Women&#8217;s Summi
 t új időpontja : 2020 szeptember 4. A márciusi időpontra váltott jegye
 k érvényesek az új időpontban is. Az offline eseményre már nincs lehe
 tőség jegyvásárlásra\,  azonban ONLINE még csatlakozhatsz hozzánk. r
 észletek és jegyvásárlás: https://bit.ly/33MTqpg 202 év. A hivatalos 
 számítások szerint még ennyire van szükség[..]\nhttps://momkult.hu/ev
 ents/forbes-womens-summit/
URL:https://momkult.hu/events/forbes-womens-summit/
END:VEVENT
END:VCALENDAR