BEGIN:VCALENDAR
VERSION:2.0
PRODID:-//eventon.com NONSGML v1.0//EN
CALSCALE:GREGORIAN
METHOD:PUBLISH
BEGIN:VEVENT
UID:69e877a7a339f
DTSTAMP:20260422T072423Z
DTSTART:20201123T200000Z
DTEND:20201123T213000Z
LOCATION:
SUMMARY:Boldogan élünk míg meg nem halunk? | Kepes András est
DESCRIPTION:Az előadás új időpontban\,  2021. 05. 26-án kerül megrend
 ezésre. (eredeti időpont: 2020. 11. 23.\,    új időpont: 2021.05.26.)
  Kedves Jegyvásárlóink! A november 23-i  20.00- kor kezdődő Boldogan
  élünk míg meg nem halunk? | Kepes András est a járványhelyzet miat
 t új időpontban kerül megrendezésre! Az új időpont: 2021. május 26.
  20:00\,  az előadás helyszíne változatlan! A megváltott[..]\nhttps:/
 /momkult.hu/events/boldogan-elunk-mig-meg-nem-halunk-kepes-andras-est/
URL:https://momkult.hu/events/boldogan-elunk-mig-meg-nem-halunk-kepes-andras-est/
END:VEVENT
END:VCALENDAR