BEGIN:VCALENDAR
VERSION:2.0
PRODID:-//eventon.com NONSGML v1.0//EN
CALSCALE:GREGORIAN
METHOD:PUBLISH
BEGIN:VEVENT
UID:69ec1b2a4e3ac
DTSTAMP:20260425T013850Z
DTSTART:20180915
DTEND:20180916
LOCATION:
SUMMARY:Agatha Christie FesztivÃ¡l
DESCRIPTION:Agatha Christie nÃ©lkÃ¼l lehet Ã©lni\,  de nem Ã©rdemesâ€¦ Legy
 en az regÃ©ny\,  szÃ­ndarab\,  egÃ©sz estÃ©s film\,  filmsorozat vagy egy Ã
 ©letÃ©rzÃ©s. Szeptember 15-tÅ‘l a kÃ©tnapos fesztivÃ¡l ideje alatt szÃ­nes 
 programkÃ­nÃ¡lat vÃ¡rja Agatha Christie rajongÃ³it. A krimi irodalom koronÃ
 ¡zatlan kirÃ¡lynÅ‘jÃ©hez kapcsolÃ³dÃ³an kulturÃ¡lis\,  ismeretterjesztÅ‘\, 
  kreatÃ­v Ã©s gasztronÃ³miai Ã©lmÃ©nyekkel gazdagodhatnak a lÃ¡togatÃ³k. A 
 fesztivÃ¡l azÂ AgathaÂ ChristieÂ magyarÂ hangjaiÂ c.[..]\nhttps://momkult.h
 u/events/agatha-christie-fesztival/
URL:https://momkult.hu/events/agatha-christie-fesztival/
END:VEVENT
END:VCALENDAR