BEGIN:VCALENDAR
VERSION:2.0
PRODID:-//eventon.com NONSGML v1.0//EN
CALSCALE:GREGORIAN
METHOD:PUBLISH
BEGIN:VEVENT
UID:69e877e1aadb9
DTSTAMP:20260422T072521Z
DTSTART:20201128T100000Z
DTEND:20201128T110000Z
LOCATION:
SUMMARY:A mi mÃ©heink | Darazsak\,  mÃ©hek Ã©s rokonsÃ¡guk
DESCRIPTION:IsmeretterjesztÅ‘ elÅ‘adÃ¡s Ã©s kÃ©zmÅ±ves foglalkozÃ¡s ElÅ‘adÃ
 ³: Dr. Vas ZoltÃ¡n\,  a Magyar TermÃ©szettudomÃ¡nyi MÃºzeum kutatÃ³ja\,  is
 meretterjesztÅ‘je. KÃ¶zremÅ±kÃ¶dik: HÃ¡rsas Ã‰va\,  kÃ¶nyvtÃ¡ros\,  Valenta
  Gabi\,  tanÃ¡r\,  Kun LÃ¡szlÃ³nÃ©\,  Ã³vÃ³nÅ‘\,  VÃ¡sÃ¡rhelyi TamÃ¡s\,  mÃ
 ºzeumpedagÃ³gus A virÃ¡gos nÃ¶vÃ©nyeket beporzÃ³ Ã¡llatok kÃ¶zÃ¼l a legfont
 osabbak a mÃ©hek â€“ mintegy hÃºszezer kÃ¼lÃ¶nbÃ¶zÅ‘ faj. HazÃ¡nkban tÃ¶bb 
 darÃ¡zsfaj Ã©l a termÃ©szetben Ã©s[..]\nhttps://momkult.hu/events/a-mi-mehe
 ink-darazsak-mehek-es-rokonsaguk-2/
URL:https://momkult.hu/events/a-mi-meheink-darazsak-mehek-es-rokonsaguk-2/
END:VEVENT
END:VCALENDAR