BEGIN:VCALENDAR
VERSION:2.0
PRODID:-//eventon.com NONSGML v1.0//EN
CALSCALE:GREGORIAN
METHOD:PUBLISH
BEGIN:VEVENT
UID:69e8b3abc2ec1
DTSTAMP:20260422T114027Z
DTSTART:20200919T090000Z
DTEND:20200919T100000Z
LOCATION:
SUMMARY:A mi mÃ©heink | ZÃ¼mmÃ¶gÅ‘ segÃ­tÅ‘tÃ¡rsaink
DESCRIPTION:IsmeretterjesztÅ‘ elÅ‘adÃ¡s Ã©s jÃ¡tÃ©kos foglalkozÃ¡s ElÅ‘adÃ³
 : Benedek Veronika\,  a Magyar MadÃ¡rtani Ã©s TermÃ©szetvÃ©delmi EgyesÃ¼let
  OktatÃ¡si Ã©s KommunikÃ¡ciÃ³s munkatÃ¡rsa NehÃ©z a tavaszt illatos\,  szÃ­
 nes virÃ¡gok nÃ©lkÃ¼l\,  a nyarat mÃ©zÃ©des dinnye\,  lÃ©dÃºs barack vagy z
 amatos cseresznye nÃ©lkÃ¼l elkÃ©pzelni. Kik vÃ©gzik a nÃ¶vÃ©nyek beporzÃ¡sÃ
 ¡nak fÃ¡radsÃ¡gos munkÃ¡jÃ¡t? Hogyan dolgoznak Ã©s hol Ã©lnek Å‘k? Hogyan[.
 .]\nhttps://momkult.hu/events/a-mi-meheink-zummogo-segitotarsaink-2/
URL:https://momkult.hu/events/a-mi-meheink-zummogo-segitotarsaink-2/
END:VEVENT
END:VCALENDAR