BEGIN:VCALENDAR
VERSION:2.0
PRODID:-//eventon.com NONSGML v1.0//EN
CALSCALE:GREGORIAN
METHOD:PUBLISH
BEGIN:VEVENT
UID:69e88b9804340
DTSTAMP:20260422T084928Z
DTSTART:20201031T100000Z
DTEND:20201031T110000Z
LOCATION:
SUMMARY:A mi mÃ©heink | VadvirÃ¡gok Ã©s beporzÃ³ rovarok kÃ¶zÃ¶s Ã©lete
DESCRIPTION:IsmeretterjesztÅ‘ elÅ‘adÃ¡s Ã©s kÃ©zmÅ±ves foglalkozÃ¡s ElÅ‘adÃ
 ³: Dr. Csontos PÃ©ter\,  botanikus\,  Ã©lÅ‘vilÃ¡gvÃ©delmi szakÃ©rtÅ‘ Csonto
 s PÃ©ter a Magyar BiolÃ³giai TÃ¡rsasÃ¡g Botanikai SzakosztÃ¡lyÃ¡nak elnÃ¶ke
 . Sok Ã©ve kutatja a vadnÃ¶vÃ©nyek Ã©letÃ©t Ã©s a virÃ¡glÃ¡togatÃ³ rovaroka
 t. Az elÅ‘adÃ¡son megfigyelÃ©seirÅ‘l szÃ¡mol be vetÃ­tett kÃ©pes elÅ‘adÃ¡sb
 an. A nÃ¶vÃ©nyek szaporodÃ¡sÃ¡nak egyik elÅ‘feltÃ©tele virÃ¡gaik sikeres me
 gporzÃ¡sa. A kÃ¼lÃ¶nfÃ©le nÃ¶vÃ©nyek[..]\nhttps://momkult.hu/events/a-mi-me
 heink-vadviragok-es-beporzo-rovarok-kozos-elete-2/
URL:https://momkult.hu/events/a-mi-meheink-vadviragok-es-beporzo-rovarok-kozos-elete-2/
END:VEVENT
END:VCALENDAR