BEGIN:VCALENDAR
VERSION:2.0
PRODID:-//eventon.com NONSGML v1.0//EN
CALSCALE:GREGORIAN
METHOD:PUBLISH
BEGIN:VEVENT
UID:69e89e34a5127
DTSTAMP:20260422T100852Z
DTSTART:20201021T171500Z
DTEND:20201021T191500Z
LOCATION:
SUMMARY:Válogatás a világ népeinek körtáncaiból
DESCRIPTION:2020. október 21-től a vírus miatt szünetelnek az órák. &
 #8212;&#8212;&#8212;&#8212;&#8212;&#8212;&#8212;&#8212;&#8212;&#8212;&#8212
 ;&#8212;&#8212;&#8212;&#8212;&#8212;&#8212;&#8211; Válogatás a világ né
 peinek legszebb körtáncaiból. Balkáni\,  breton\,  ír\,  izraeli\,  ha
 zai\,  és a világ minden tájáról származó néptáncok\,  valamint sz
 akrális és meditációs táncok\,  mindig más összeállításban. Női 
 csoport\,  partner és előképzettség nem szükséges. Minden lépést eg
 yütt tanulunk meg. Örömteli együttlét\, [..]\nhttps://momkult.hu/event
 s/valogatas-a-vilag-nepeinek-kortancaibol-4/
URL:https://momkult.hu/events/valogatas-a-vilag-nepeinek-kortancaibol-4/
END:VEVENT
END:VCALENDAR