BEGIN:VCALENDAR
VERSION:2.0
PRODID:-//eventon.com NONSGML v1.0//EN
CALSCALE:GREGORIAN
METHOD:PUBLISH
BEGIN:VEVENT
UID:69e89e72cd4a9
DTSTAMP:20260422T100954Z
DTSTART:20201007T171500Z
DTEND:20201007T191500Z
LOCATION:
SUMMARY:Válogatás a világ népeinek körtáncaiból
DESCRIPTION:Válogatás a világ népeinek legszebb körtáncaiból. Balká
 ni\,  breton\,  ír\,  izraeli\,  hazai\,  és a világ minden tájáról s
 zármazó néptáncok\,  valamint szakrális és meditációs táncok\,  mi
 ndig más összeállításban. Női csoport\,  partner és előképzettség
  nem szükséges. Minden lépést együtt tanulunk meg. Örömteli együttl
 ét\,  egészségmegőrző mozgás. Idősebbeknek is ajánlott. Bármikor l
 ehet csatlakozni. A táncot[..]\nhttps://momkult.hu/events/valogatas-a-vila
 g-nepeinek-kortancaibol-3/
URL:https://momkult.hu/events/valogatas-a-vilag-nepeinek-kortancaibol-3/
END:VEVENT
END:VCALENDAR