BEGIN:VCALENDAR
VERSION:2.0
PRODID:-//eventon.com NONSGML v1.0//EN
CALSCALE:GREGORIAN
METHOD:PUBLISH
BEGIN:VEVENT
UID:69e8b3956d445
DTSTAMP:20260422T114005Z
DTSTART:20200923T171500Z
DTEND:20200923T191500Z
LOCATION:
SUMMARY:Válogatás a világ népeinek körtáncaiból
DESCRIPTION:Válogatás a világ népeinek legszebb körtáncaiból. Balká
 ni\,  breton\,  ír\,  izraeli\,  hazai\,  és a világ minden tájáról s
 zármazó néptáncok\,  valamint szakrális és meditációs táncok\,  mi
 ndig más összeállításban. Női csoport\,  partner és előképzettség
  nem szükséges. Minden lépést együtt tanulunk meg. Örömteli együttl
 ét\,  egészségmegőrző mozgás. Idősebbeknek is ajánlott. Bármikor l
 ehet csatlakozni. A táncot[..]\nhttps://momkult.hu/events/valogatas-a-vila
 g-nepeinek-kortancaibol-2/
URL:https://momkult.hu/events/valogatas-a-vilag-nepeinek-kortancaibol-2/
END:VEVENT
END:VCALENDAR