BEGIN:VCALENDAR
VERSION:2.0
PRODID:-//eventon.com NONSGML v1.0//EN
CALSCALE:GREGORIAN
METHOD:PUBLISH
BEGIN:VEVENT
UID:69ec09a600242
DTSTAMP:20260425T002406Z
DTSTART:20180914T180000Z
DTEND:20180914T190000Z
LOCATION:
SUMMARY:Opera Singer Quartet
DESCRIPTION:Az Opera Singer Quartet egy nÃ©gy operaÃ©nekesbÅ‘l Ã¡llÃ³ formÃ
 ¡ciÃ³\,  melynek repertoÃ¡rjÃ¡ban az operairodalom legszebb Ã¡riÃ¡i Ã©ppÃºg
 y megtalÃ¡lhatÃ³k\,  mint hÃ­res operettek rÃ©szletei vagy egÃ©sz opera ker
 esztmetszetek. MÅ±soron Mozart\,  Verdi\,  Puccini mÅ±vei. A quartet tagjai
  Wischin MariannÂ | szoprÃ¡n Bojta Zsuzsanna | mezzoszoprÃ¡n Bodolai PÃ©ter
 Â | tenor HandÃ³ IstvÃ¡nÂ | basszus A csapat Ã¡llandÃ³ tagjai[..]\nhttps://
 momkult.hu/events/opera-singer-quartet/
URL:https://momkult.hu/events/opera-singer-quartet/
END:VEVENT
END:VCALENDAR