BEGIN:VCALENDAR
VERSION:2.0
PRODID:-//eventon.com NONSGML v1.0//EN
CALSCALE:GREGORIAN
METHOD:PUBLISH
BEGIN:VEVENT
UID:69e8765ccd94f
DTSTAMP:20260422T071852Z
DTSTART:20201220T093000Z
DTEND:20201220T103000Z
LOCATION:
SUMMARY:KalÃ¡ka | Szabad-e bejÃ¶nni ide betlehemmel?
DESCRIPTION:Tisztelt LÃ¡togatÃ³ink! A 2020. december 20-Ã¡n 09:30-ra Ã©s 11
 :30-ra meghirdetett KalÃ¡ka &#8211; Szabad-e bejÃ¶nni ide betlehemmelÂ konc
 ertekÂ elmaradnak. A jegyek visszavÃ¡ltÃ¡sÃ¡rÃ³l a Gryllus Kft. megbÃ­zÃ¡sÃ
 ¡bÃ³l a MOM KulturÃ¡lis KÃ¶zpont Nonprofit Kft. kÃ¶zvetÃ­tÅ‘kÃ©nt intÃ©zked
 ik. Amennyiben Ã–n online vÃ¡sÃ¡rolta a jegyeket\,  Ãºgy tovÃ¡bbi teendÅ‘je
  nincs\,  az Interticket Kft. visszautalja a jegyek vÃ©telÃ¡rÃ¡t. Az Intert
 icket[..]\nhttps://momkult.hu/events/kalaka-szabad-e-bejonni-ide-betlehemme
 l-2/
URL:https://momkult.hu/events/kalaka-szabad-e-bejonni-ide-betlehemmel-2/
END:VEVENT
END:VCALENDAR