BEGIN:VCALENDAR
VERSION:2.0
PRODID:-//eventon.com NONSGML v1.0//EN
CALSCALE:GREGORIAN
METHOD:PUBLISH
BEGIN:VEVENT
UID:69e8b1dacce8c
DTSTAMP:20260422T113242Z
DTSTART:20200916T173000Z
DTEND:20200916T190000Z
LOCATION:
SUMMARY:Hello\,  WMN! – SZABADTÉREN!
DESCRIPTION:Sok-sok hónap kényszerpihenő után a posztkarantén-korszak 
 első élő WMN talkshow-ja a szabad levegőn kerül megrendezésre. A szer
 vezés körülményei is igazolják az elmúlt időszak egyik leggyakrabban
  ismételt tézisét\,  hogy tudniillik: „ezek után nem mehet minden úg
 y tovább\,  ahogy eddig”… Igen ám\,  de akkor hogyan tovább? Milyen 
 lesz az a bizonyos „új[..]\nhttps://momkult.hu/events/hello-wmn-szabadte
 ren/
URL:https://momkult.hu/events/hello-wmn-szabadteren/
END:VEVENT
END:VCALENDAR