BEGIN:VCALENDAR
VERSION:2.0
PRODID:-//eventon.com NONSGML v1.0//EN
CALSCALE:GREGORIAN
METHOD:PUBLISH
BEGIN:VEVENT
UID:69e88ef3627a3
DTSTAMP:20260422T090347Z
DTSTART:20201110T190000Z
DTEND:20201110T201500Z
LOCATION:
SUMMARY:TÃ¶rtÃ©njen bÃ¡rmi | KÅ‘halmi ZoltÃ¡n Ã¶nÃ¡llÃ³ elÅ‘adÃ¡sa
DESCRIPTION:Tisztelt LÃ¡togatÃ³ink! AÂ november 10-i (eredetileg jÃºnius 7.
  14:30)Â 19.00- kor kezdÅ‘dÅ‘Â â€žTÃ¶rtÃ©njen bÃ¡rmi- KÅ‘halmi ZoltÃ¡n Ã¶nÃ
 ¡llÃ³ estje &#8221; cÃ­mÅ±Â elÅ‘adÃ¡sunkÂ aÂ MOM KulturÃ¡lis KÃ¶zpontban\, 
 Â a jÃ¡rvÃ¡nyhelyzetÂ miattÂ Ãºj idÅ‘pontban kerÃ¼l megrendezÃ©sre! Az Ãºj 
 idÅ‘pont:Â 2021. mÃ¡rcius 18. 19:00\, Â az elÅ‘adÃ¡s helyszÃ­ne vÃ¡ltozatla
 n! AÂ megvÃ¡ltottÂ belÃ©pÅ‘jegyek automatikusan Ã©rvÃ©nyesek az Ãºj idÅ‘pot
 ra. Amennyiben nem felel meg az Ãºj idÅ‘pont\, Â visszavÃ¡ltÃ¡si igÃ©nyÃ¼ke
 tÂ legkÃ©sÅ‘bbÂ november 30-igÂ az alÃ¡bbiÂ linken keresztÃ¼l tudjÃ¡k[..]\n
 https://momkult.hu/events/tortenjen-barmi-kohalmi-zoltan-onallo-eloadasa/
URL:https://momkult.hu/events/tortenjen-barmi-kohalmi-zoltan-onallo-eloadasa/
END:VEVENT
END:VCALENDAR