BEGIN:VCALENDAR
VERSION:2.0
PRODID:-//eventon.com NONSGML v1.0//EN
CALSCALE:GREGORIAN
METHOD:PUBLISH
BEGIN:VEVENT
UID:69e8dc4d96f87
DTSTAMP:20260422T143349Z
DTSTART:20200819T100000Z
DTEND:20200820T180000Z
LOCATION:
SUMMARY:Kenyérlelke fesztivál
DESCRIPTION:Idén hatodik alkalommal kerül megrendezésre a hagyományosan
  kenyeret készítők találkozója Budapesten a MOMkult. BELÉPŐK itt (ez
 eken a linkeken) 2020. augusztus 19. egésznapos regisztrációs jegy 2020.
  augusztus 19. VOLVO Vacsora (18h-tól) 5000 Ft / fő* 2020. augusztus 20. 
 délelőtti regisztrációs jegy 2020. augusztus 20. délutáni regisztrác
 iós jegy 2020. augusztus 20. Nespresso[..]\nhttps://momkult.hu/events/keny
 erlelke-fesztival-2/
URL:https://momkult.hu/events/kenyerlelke-fesztival-2/
END:VEVENT
END:VCALENDAR