BEGIN:VCALENDAR
VERSION:2.0
PRODID:-//eventon.com NONSGML v1.0//EN
CALSCALE:GREGORIAN
METHOD:PUBLISH
BEGIN:VEVENT
UID:69e8dac34ccbe
DTSTAMP:20260422T142715Z
DTSTART:20200816T100000Z
DTEND:20200816T180000Z
LOCATION:
SUMMARY:WAMP HegyvidÃ©k
DESCRIPTION:Augusztus 16-Ã¡n Ãºj helyszÃ­nen\,  a hegyvidÃ©ki SirÃ¡ly sÃ©tÃ
 ¡nyon tÃ©rnek vissza a WAMP-os tervezÅ‘k! A budai hegyek Ã¶lelÃ©sÃ©ben\,  a
  kultikus MOMkult elÅ‘tti sÃ©tÃ¡nyon kÃ¶zel szÃ¡z hazai alkotÃ³ vÃ¡rja az e
 gyedi design tÃ¡rgyak irÃ¡nt Ã©rdeklÅ‘dÅ‘ket\,  ahol bemutatjÃ¡k a legfriss
 ebb nyÃ¡ri kollekciÃ³ikat. TovÃ¡bbi infÃ³k Ã©s a tervezÅ‘k listÃ¡ja itt.\nh
 ttps://momkult.hu/events/wamp-hegyvidek/
URL:https://momkult.hu/events/wamp-hegyvidek/
END:VEVENT
END:VCALENDAR