BEGIN:VCALENDAR
VERSION:2.0
PRODID:-//eventon.com NONSGML v1.0//EN
CALSCALE:GREGORIAN
METHOD:PUBLISH
BEGIN:VEVENT
UID:69e8ee3504178
DTSTAMP:20260422T155013Z
DTSTART:20200804
DTEND:20200805
LOCATION:
SUMMARY:Atmoszféra | A Hegyvidéki Nemzetközi Művésztelep kiállítása
DESCRIPTION:A Hegyvidéki Önkormányzat és a MOM Kulturális Központ kö
 zös szervezésében megvalósuló Hegyvidéki Nemzetközi Művésztelep Bu
 dapest legrégebb óta folyamatosan működő alkotótábora\,  amelynek ve
 zetője és szakmai koordinátora 2017-től Kallós Judit\,  a Hegyvidék G
 aléria művészettörténésze. Az évente megrendezésre kerülő művés
 ztelepre tíz-tizenöt\,  elsősorban festő- és grafikusművész kap megh
 ívást\,  akik a szűk két hét alatt\, [..]\nhttps://momkult.hu/events/a
 tmoszfera-a-hegyvideki-nemzetkozi-muvesztelep-kiallitasa/
URL:https://momkult.hu/events/atmoszfera-a-hegyvideki-nemzetkozi-muvesztelep-kiallitasa/
END:VEVENT
END:VCALENDAR