BEGIN:VCALENDAR
VERSION:2.0
PRODID:-//eventon.com NONSGML v1.0//EN
CALSCALE:GREGORIAN
METHOD:PUBLISH
BEGIN:VEVENT
UID:69e89154c9226
DTSTAMP:20260422T091356Z
DTSTART:20201103T170000Z
DTEND:20201103T190000Z
LOCATION:
SUMMARY:Beethoven 250 | A Solti György Zeneiskola hangversenye
DESCRIPTION:A Solti György Zeneiskola növendékeinek és művésztanárai
 nak &#8211; vetítéssel egybekötött\,  ismeretterjesztő &#8211; hangver
 senye a szerző születésének 250. évfordulója alkalmából. Házigazda
 : Bolyky Zoltán\nhttps://momkult.hu/events/beethoven-250-a-solti-gyorgy-ze
 neiskola-hangversenye/
URL:https://momkult.hu/events/beethoven-250-a-solti-gyorgy-zeneiskola-hangversenye/
END:VEVENT
END:VCALENDAR