BEGIN:VCALENDAR
VERSION:2.0
PRODID:-//eventon.com NONSGML v1.0//EN
CALSCALE:GREGORIAN
METHOD:PUBLISH
BEGIN:VEVENT
UID:69e89e2ee9999
DTSTAMP:20260422T100846Z
DTSTART:20201011T170000Z
DTEND:20201011T190000Z
LOCATION:
SUMMARY:Zene Világnapi Hangverseny | Solti György Zeneiskola
DESCRIPTION:A Solti György Zeneiskola hagyományos hangversenye a MOM Kult
 urális Központ színháztermében. Közreműködnek a Solti György Zenei
 skola kiemelkedő tehetségű növendékei\,  zenekarai\,  együttesei\,  v
 alamint a Divertimento Kamarazenekar. &nbsp; &nbsp;\nhttps://momkult.hu/eve
 nts/zene-vilagnapi-hangverseny-solti-gyorgy-zeneiskola/
URL:https://momkult.hu/events/zene-vilagnapi-hangverseny-solti-gyorgy-zeneiskola/
END:VEVENT
END:VCALENDAR