BEGIN:VCALENDAR
VERSION:2.0
PRODID:-//eventon.com NONSGML v1.0//EN
CALSCALE:GREGORIAN
METHOD:PUBLISH
BEGIN:VEVENT
UID:69e8da672cb00
DTSTAMP:20260422T142543Z
DTSTART:20200906T190000Z
DTEND:20200906T203000Z
LOCATION:
SUMMARY:Alex Torres & Band
DESCRIPTION:Alex Torres &#8211; Gitár Tar Gergely &#8211; ütőhangszerek 
 Simkó-Várnagy Mihály &#8211; basszusgitár A koncert “Köszönjük\,  
 Magyarország!” program támogatásával valósul meg.\nhttps://momkult.h
 u/events/alex-torres-band/
URL:https://momkult.hu/events/alex-torres-band/
END:VEVENT
END:VCALENDAR