BEGIN:VCALENDAR
VERSION:2.0
PRODID:-//eventon.com NONSGML v1.0//EN
CALSCALE:GREGORIAN
METHOD:PUBLISH
BEGIN:VEVENT
UID:69e8dac4113ba
DTSTAMP:20260422T142716Z
DTSTART:20200816T180000Z
DTEND:20200816T193000Z
LOCATION:
SUMMARY:Dalok â€“ Chameleon Jazz Band
DESCRIPTION:HelyszÃ­n: LÃ³vasÃºt KulturÃ¡lis- Ã©s RendezvÃ©nykÃ¶zpont 1121 
 Budapest\,  Zugligeti Ãºt 64. RendhagyÃ³ estre invitÃ¡ljuk a dallamos jazz 
 Ã©s az igÃ©nyes popzene rajongÃ³it. A repertoÃ¡ron lÃ©vÅ‘ fÃ¼lbemÃ¡szÃ³ dal
 okat ezÃºttal kÃ¼lÃ¶nleges helyszÃ­nen\,  a zugligeti LÃ³vasÃºt-vÃ©gÃ¡llomÃ
 ¡s mÅ±emlÃ©k Ã©pÃ¼letÃ©ben Ã©s vadonatÃºj hangszerelÃ©sekben Ã©lvezhetik az
  Ã©rdeklÅ‘dÅ‘k!Â JÃ³ idÅ‘ esetÃ©n a koncert a teraszon kerÃ¼l megrendezÃ©sr
 e! BelÃ©pÅ‘jegyek 2020.[..]\nhttps://momkult.hu/events/dalok-chameleon-jazz
 -band/
URL:https://momkult.hu/events/dalok-chameleon-jazz-band/
END:VEVENT
END:VCALENDAR