BEGIN:VCALENDAR
VERSION:2.0
PRODID:-//eventon.com NONSGML v1.0//EN
CALSCALE:GREGORIAN
METHOD:PUBLISH
BEGIN:VEVENT
UID:69e79854ccda0
DTSTAMP:20260421T153132Z
DTSTART:20220217T180000Z
DTEND:20220217T193000Z
LOCATION:
SUMMARY:Karajan â€“ Szentkuthy | PÃ¡ratlan pÃ¡rok
DESCRIPTION:FelhÃ­vjuk lÃ¡togatÃ³ink szÃ­ves figyelmÃ©t\,  hogy a MOMkult Ã
 ©pÃ¼letÃ©ben a maszkviselÃ©s kÃ¶telezÅ‘! Az elÅ‘adÃ¡s Ãºj idÅ‘pontban\,  20
 22. 02. 17-Ã©n kerÃ¼l megrendezÃ©sre. (eredeti idÅ‘pont: 2021. 03. 25.\,  p
 Ã³telÅ‘adÃ¡s: 2022. 02.17.) &#8212;&#8212;&#8212;&#8212;&#8212;&#8212;&#821
 2;&#8212;&#8212;&#8212;&#8212;&#8212;&#8212;&#8212;&#8212;&#8212;&#8212;&#8
 212;&#8212;&#8212;&#8212;&#8212;&#8212;&#8212;&#8212;&#8212;&#8212;&#8212;&
 #8212;&#8212;&#8212;&#8212;&#8212;&#8212;&#8212;&#8212;&#8212;&#8212;&#8212
 ;&#8212;&#8212;&#8212;&#8212;&#8212;&#8212; Herbert von Karajan â€“ Szentku
 thy MiklÃ³s Lehunyt szemmel vezÃ©nyelni meg bÃ­borosi jelmezben Ã¡ldÃ¡st os
 ztani\,  s csodÃ¡lt szent szÃ¶rnyeteggÃ© vÃ¡lni a nagyvilÃ¡g[..]\nhttps://m
 omkult.hu/events/karajan-szentkuthy-paratlan-parok/
URL:https://momkult.hu/events/karajan-szentkuthy-paratlan-parok/
END:VEVENT
END:VCALENDAR