BEGIN:VCALENDAR
VERSION:2.0
PRODID:-//eventon.com NONSGML v1.0//EN
CALSCALE:GREGORIAN
METHOD:PUBLISH
BEGIN:VEVENT
UID:69e7f67a177c8
DTSTAMP:20260421T221314Z
DTSTART:20220113T180000Z
DTEND:20220113T193000Z
LOCATION:
SUMMARY:Debussy â€“ Klimt  | PÃ¡ratlan pÃ¡rok
DESCRIPTION:FelhÃ­vjuk lÃ¡togatÃ³ink szÃ­ves figyelmÃ©t\,  hogy a MOMkult Ã
 ©pÃ¼letÃ©ben a maszkviselÃ©s kÃ¶telezÅ‘! Az elÅ‘adÃ¡s Ãºj idÅ‘pontban\,  20
 22. 01. 13-Ã¡n kerÃ¼l megrendezÃ©sre. (eredeti idÅ‘pont: 2021. 02. 25.\,  p
 Ã³telÅ‘adÃ¡s: 2022. 01.13.) &#8212;&#8212;&#8212;&#8212;&#8212;&#8212;&#821
 2;&#8212;&#8212;&#8212;&#8212;&#8212;&#8212;&#8212;&#8212;&#8212;&#8212;&#8
 212;&#8212;&#8212;&#8212;&#8212;&#8212;&#8212;&#8212;&#8212;&#8212;&#8212;&
 #8212;&#8212;&#8212;&#8212;&#8212;&#8212;&#8212;&#8212;&#8212;&#8212;&#8212
 ;&#8212;&#8212;&#8212;&#8212;&#8212;&#8212; Claude Debussy â€“ Gustav Klimt
  A mÃºlt szÃ¡zadvÃ©g Ã©s szÃ¡zadelÅ‘ emblematikus mÅ±vÃ©szei\,  a szecesszi
 Ã³ Ã©s a zenei impresszionizmus fÅ‘alakjai\,  BÃ©cs Ã©s[..]\nhttps://momkul
 t.hu/events/debussy-klimt-paratlan-parok/
URL:https://momkult.hu/events/debussy-klimt-paratlan-parok/
END:VEVENT
END:VCALENDAR