BEGIN:VCALENDAR
VERSION:2.0
PRODID:-//eventon.com NONSGML v1.0//EN
CALSCALE:GREGORIAN
METHOD:PUBLISH
BEGIN:VEVENT
UID:69e7d1ea4dd81
DTSTAMP:20260421T193714Z
DTSTART:20211214T180000Z
DTEND:20211214T193000Z
LOCATION:
SUMMARY:Callas â€“ Kormos | PÃ¡ratlan pÃ¡rok
DESCRIPTION:FelhÃ­vjuk lÃ¡togatÃ³ink szÃ­ves figyelmÃ©t\,  hogy a MOMkult Ã
 ©pÃ¼letÃ©ben a maszkviselÃ©s kÃ¶telezÅ‘! Az elÅ‘adÃ¡s Ãºj idÅ‘pontban\,  20
 21. 12. 14-Ã©n kerÃ¼l megrendezÃ©sre. (eredeti idÅ‘pont: 2021. 01. 28.\,  p
 Ã³telÅ‘adÃ¡s: 2021. 12.14.) &#8212;&#8212;&#8212;&#8212;&#8212;&#8212;&#821
 2;&#8212;&#8212;&#8212;&#8212;&#8212;&#8212;&#8212;&#8212;&#8212;&#8212;&#8
 212;&#8212;&#8212;&#8212;&#8212;&#8212;&#8212;&#8212;- Maria Callas â€“ Kor
 mos IstvÃ¡n Mindketten 1923-ban szÃ¼lettek Ã©s mindketten csupÃ¡n 1977-ig Ã
 ©ltek\,  de ennÃ©l tÃ¶bb kÃ¶zÃ¶s pontot elsÅ‘re aligha fedezhetÃ¼nk[..]\nht
 tps://momkult.hu/events/callas-kormos-paratlan-parok/
URL:https://momkult.hu/events/callas-kormos-paratlan-parok/
END:VEVENT
END:VCALENDAR