BEGIN:VCALENDAR
VERSION:2.0
PRODID:-//eventon.com NONSGML v1.0//EN
CALSCALE:GREGORIAN
METHOD:PUBLISH
BEGIN:VEVENT
UID:69e7e790f00a9
DTSTAMP:20260421T210936Z
DTSTART:20211118T180000Z
DTEND:20211118T193000Z
LOCATION:
SUMMARY:Rossini â€“ Id. Dumas | PÃ¡ratlan pÃ¡rok
DESCRIPTION:FelhÃ­vjuk lÃ¡togatÃ³ink szÃ­ves figyelmÃ©t\,  hogy a MOMkult Ã
 ©pÃ¼letÃ©ben a maszkviselÃ©s kÃ¶telezÅ‘! Az elÅ‘adÃ¡s Ãºj idÅ‘pontban\,  20
 21. 11. 18 -Ã¡n kerÃ¼l megrendezÃ©sre. (eredeti idÅ‘pont: 2020. 12. 10.\,  
 pÃ³telÅ‘adÃ¡s: 2021. 11.18.) Gioachino Rossini â€“ Id. Alexandre Dumas Kime
 rÃ­thetetlen fantÃ¡zia\,  hatalmas Ã©letmÅ±\,  a kortÃ¡rsak Ã©s az utÃ³kor 
 Ã¡ltal egyszerre csodÃ¡lt Ã©s fejcsÃ³vÃ¡lva kÃ¡rhoztatott[..]\nhttps://momk
 ult.hu/events/rossini-id-dumas-paratlan-parok/
URL:https://momkult.hu/events/rossini-id-dumas-paratlan-parok/
END:VEVENT
END:VCALENDAR