BEGIN:VCALENDAR
VERSION:2.0
PRODID:-//eventon.com NONSGML v1.0//EN
CALSCALE:GREGORIAN
METHOD:PUBLISH
BEGIN:VEVENT
UID:69e80e686c7b3
DTSTAMP:20260421T235520Z
DTSTART:20211014T170000Z
DTEND:20211014T183000Z
LOCATION:
SUMMARY:Nietzsche â€“ MunkÃ¡csy | PÃ¡ratlan pÃ¡rok
DESCRIPTION:Az elÅ‘adÃ¡s Ãºj idÅ‘pontban\,  2021. 10. 14 -Ã©n kerÃ¼l megren
 dezÃ©sre. (eredeti idÅ‘pont: 2020. 11. 19.\,  pÃ³telÅ‘adÃ¡s: 2021. 10.14.) 
 &#8212;&#8212;&#8212;&#8212;&#8212;&#8212;&#8212;&#8212;&#8212;&#8212;&#821
 2;&#8212;&#8212;&#8212;&#8212;&#8212;&#8212;&#8212;&#8212;&#8212;&#8212;&#8
 212;&#8212;&#8212;&#8212;&#8212;&#8212;&#8212;&#8212;&#8212;&#8212;&#8212;&
 #8212;&#8212;&#8212;&#8212;&#8212;&#8212;&#8212;&#8212;&#8212;&#8212;&#8212
 ;&#8212;&#8212; Friedrich Nietzsche â€“ MunkÃ¡csy MihÃ¡ly KÃ©t nyughatatlan
  szellem\,  kÃ©t eltÃ©rÅ‘ Ã©letstratÃ©gia\,  kÃ©t szÃ¡zadvÃ©gi Ã¶sszeomlÃ¡s
  &#8211; Ã©s kÃ©t problematikus utÃ³Ã©let\,  amelynek megÃ¡rtott a rossz tÃ
 ¶rtÃ©nelem\,  illetve a kÃ¡trÃ¡ny. PÃ¡ratlan pÃ¡rok â€“ sorozat[..]\nhttps:
 //momkult.hu/events/nietzsche-munkacsy-paratlan-parok/
URL:https://momkult.hu/events/nietzsche-munkacsy-paratlan-parok/
END:VEVENT
END:VCALENDAR