BEGIN:VCALENDAR
VERSION:2.0
PRODID:-//eventon.com NONSGML v1.0//EN
CALSCALE:GREGORIAN
METHOD:PUBLISH
BEGIN:VEVENT
UID:69e82f6478334
DTSTAMP:20260422T021604Z
DTSTART:20210916T170000Z
DTEND:20210916T183000Z
LOCATION:
SUMMARY:Baker â€“ Sosztakovics | PÃ¡ratlan pÃ¡rok
DESCRIPTION:Az elÅ‘adÃ¡s Ãºj idÅ‘pontban\,  2021. 09. 16-Ã¡n kerÃ¼l megrend
 ezÃ©sre. (eredeti idÅ‘pont: 2020. 10. 29.\,  pÃ³telÅ‘adÃ¡s: 2021. 09.16.) &
 #8212;&#8212;&#8212;&#8212;&#8212;&#8212;&#8212;&#8212;&#8212;&#8212;&#8212
 ;&#8212;&#8212;&#8212;&#8212;&#8212;&#8212;&#8212;&#8212;&#8212;&#8212;&#82
 12;&#8212;&#8212;&#8212;&#8212;&#8212;&#8212;&#8212;&#8212;&#8212;&#8212;&#
 8212;&#8212;&#8212;&#8212;&#8212;&#8212;&#8212;&#8212;&#8212;&#8212;&#8212;
 &#8212;&#8212; Josephine Baker Ã©s Dmitrij Sosztakovics TÃ¡ncosnÅ‘ banÃ¡nsz
 oknyÃ¡ban\,  komponista tÅ±zoltÃ³sisakban: merÃ©szsÃ©g Ã©s modernitÃ¡s\,  t
 ÃºlÃ©lÃ©si technikÃ¡k Ã©s tÃ¶rtÃ©nelmi tragÃ©diÃ¡k 1906 Ã©s 1975 kÃ¶zÃ¶tt. 
 PÃ¡ratlan pÃ¡rok â€“ sorozat ZeneszerzÅ‘ a tÃ¡ncosnÅ‘vel\,  festÅ‘ a filozÃ
 ³fussal\,  kÃ¶ltÅ‘[..]\nhttps://momkult.hu/events/baker-sosztakovics-paratl
 an-parok/
URL:https://momkult.hu/events/baker-sosztakovics-paratlan-parok/
END:VEVENT
END:VCALENDAR