BEGIN:VCALENDAR
VERSION:2.0
PRODID:-//eventon.com NONSGML v1.0//EN
CALSCALE:GREGORIAN
METHOD:PUBLISH
BEGIN:VEVENT
UID:69e8b6a7acb94
DTSTAMP:20260422T115311Z
DTSTART:20200919T180000Z
DTEND:20200919T200000Z
LOCATION:
SUMMARY:Bolla Milán és a Solti György Zeneiskola Vonószenekara  | Ars Sacra Fesztivál
DESCRIPTION:A Solti György Zeneiskola Vonószenekara negyedszer lép fel a
 z Ars Sacra Fesztiválon. Koncertjük műsorának gerincét barokk művek a
 lkotják\,  de más korok zenéiből is adnak ízelítőt. Így pl. a 250 
 ve született Beethoven dallamai is felcsendülnek majd Bolla Milán vezé
 nyletével. Karmester: Bolla Milán hegedűművész Arcangelo Corelli: D-d
 r concerto grosso Op. 6[..]\nhttps://momkult.hu/events/bolla-milan-es-a-so
 lti-gyorgy-zeneiskola-zenekara-ars-sacra-fesztival/
URL:https://momkult.hu/events/bolla-milan-es-a-solti-gyorgy-zeneiskola-zenekara-ars-sacra-fesztival/
END:VEVENT
END:VCALENDAR