BEGIN:VCALENDAR
VERSION:2.0
PRODID:-//eventon.com NONSGML v1.0//EN
CALSCALE:GREGORIAN
METHOD:PUBLISH
BEGIN:VEVENT
UID:69e8ed973eb71
DTSTAMP:20260422T154735Z
DTSTART:20200728T200000Z
DTEND:20200728T220000Z
LOCATION:
SUMMARY:Szerelmünk lapjai | Mozi.kert
DESCRIPTION:Nyáron három alkalommal ismét Mozikert a MOMkult szabadtéri
  színpadán! Vetítések: július 28.\,  kedd\,  21.00 &#8211; Szerelmünk
  lapjai augusztus 5.\,  szerda\,  21.00 &#8211; Viszlát\,  Christopher Rob
 in augusztus 12.\,  szerda\,  21.00 &#8211; A dzsungel könyve (2016) Szere
 lmünk lapjai Allie és Noah tizenévesek voltak\,  amikor találkoztak\,  
 az első pillanattól kezdve rokonszenveztek egymással. Kibontakozó[..]\n
 https://momkult.hu/events/szerelmunk-lapjai-mozi-kert/
URL:https://momkult.hu/events/szerelmunk-lapjai-mozi-kert/
END:VEVENT
END:VCALENDAR