BEGIN:VCALENDAR
VERSION:2.0
PRODID:-//eventon.com NONSGML v1.0//EN
CALSCALE:GREGORIAN
METHOD:PUBLISH
BEGIN:VEVENT
UID:69e88b2aed2ee
DTSTAMP:20260422T084738Z
DTSTART:20201031T193000Z
DTEND:20201031T220000Z
LOCATION:
SUMMARY:Gereben Zita | HegyvidÃ©ki Smooth Jazz Klub
DESCRIPTION:Gereben Zita a hazai kÃ¶nnyÅ±zenei Ã©let Ã©nekes-dalszerzÅ‘je.Â
   Zenekara a hazai zenei Ã©let elismert Ã©s tehetsÃ©ges muzsikusaibÃ³l Ã¡ll
 . Az Ã¶sszeszokott csapat bÃ¡tran nyÃºl a legkÃ¼lÃ¶nfÃ©lÃ©bb zenei stÃ­luso
 khoz\,  jÃ¡tÃ©kukban az improvizÃ¡ciÃ³ Ã©s a zenei szabadsÃ¡g egyarÃ¡nt meg
 jelenik. A program az NKA HangfoglalÃ³ Program tÃ¡mogatÃ¡sÃ¡val valÃ³sul me
 g. Gereben Zita &#8211; Ã©nek HorvÃ¡th &#8222;TojÃ¡s&#8221;[..]\nhttps://mo
 mkult.hu/events/gereben-zita-hegyvideki-smooth-jazz-klub/
URL:https://momkult.hu/events/gereben-zita-hegyvideki-smooth-jazz-klub/
END:VEVENT
END:VCALENDAR