BEGIN:VCALENDAR
VERSION:2.0
PRODID:-//eventon.com NONSGML v1.0//EN
CALSCALE:GREGORIAN
METHOD:PUBLISH
BEGIN:VEVENT
UID:69e8da5c652f5
DTSTAMP:20260422T142532Z
DTSTART:20200813T180000Z
DTEND:20200813T200000Z
LOCATION:
SUMMARY:Nasip Kismet
DESCRIPTION:Új-Anatólia első török pszichedelikus folkbandája évszá
 zadok autentikáját szelve feszegeti a modern hangzást a régizene eredet
 ijével. Hagyományos prillák vegyítve szaxofonnal\,  miközben lüktet a
 z ütem és a basszus. Transzcendens valóság az Egri csillagok hangulatá
 tól a Törökfürdő mélytisztaságán át az isztambuli mainstream diszk
 ó önfeledt eufóriájáig. Közreműködik: Arif Erdem Ocak &#8211; gitá
 r\,  ének Eged[..]\nhttps://momkult.hu/events/nasip-kismet-band/
URL:https://momkult.hu/events/nasip-kismet-band/
END:VEVENT
END:VCALENDAR