BEGIN:VCALENDAR
VERSION:2.0
PRODID:-//eventon.com NONSGML v1.0//EN
CALSCALE:GREGORIAN
METHOD:PUBLISH
BEGIN:VEVENT
UID:69e8eddfb14e9
DTSTAMP:20260422T154847Z
DTSTART:20200809T093000Z
DTEND:20200809T103000Z
LOCATION:
SUMMARY:Danny és Béla #mesekoncert
DESCRIPTION:Danny Bain és Ágoston Béla zenés-mesés hangszerbemutatója
 \,  nem csak gyerekeknek Az ütőshangszeres\,  a jellegzetes mesemondó Da
 nny és a multiinstrumelista Ágoston Béla mutatja meg\,  hogyan érdemes 
 játékos módon létező és eddig még nem létzetett hangszereken bolond
 osabbnál bolondosabb történetekkel szórakoztatni gyerekeket és felnőt
 teket egyaránt. Az előadásban megszólaló hangszerek: klasszikus fúvó
 shangszerek: szopránszaxofon\,  basszusklarinét;[..]\nhttps://momkult.hu/
 events/danny-es-bela-mesekoncert/
URL:https://momkult.hu/events/danny-es-bela-mesekoncert/
END:VEVENT
END:VCALENDAR