BEGIN:VCALENDAR
VERSION:2.0
PRODID:-//eventon.com NONSGML v1.0//EN
CALSCALE:GREGORIAN
METHOD:PUBLISH
BEGIN:VEVENT
UID:69e8ed983ed2b
DTSTAMP:20260422T154736Z
DTSTART:20200808T180000Z
DTEND:20200808T210000Z
LOCATION:
SUMMARY:Bende Zsolt trió + Celectro
DESCRIPTION:// PERSPECTIVES PROJECT Bende Zsolt jazzgitáros triója Bende 
 saját szerzeményeit\,  nagyotmondástól mentes\,  meggyőző erejű main
 stream jazzt játssza. Közreműködik: Gyányi Marcell &#8211; nagybőgő\
 ,  basszusgitár Csízi László &#8211; dob // CELECTRO – “Zenei vilá
 gok összefonódása” Bach és klasszikusok\,  az indiai zene\,  kortárs
  és jazz improvizáció\,  deep electronics. Közreműködik: Onczay Zolt
 n – csellóművész[..]\nhttps://momkult.hu/events/bende-zsolt-trio-cele
 ctro/
URL:https://momkult.hu/events/bende-zsolt-trio-celectro/
END:VEVENT
END:VCALENDAR