BEGIN:VCALENDAR
VERSION:2.0
PRODID:-//eventon.com NONSGML v1.0//EN
CALSCALE:GREGORIAN
METHOD:PUBLISH
BEGIN:VEVENT
UID:69e8edbf81288
DTSTAMP:20260422T154815Z
DTSTART:20200723T180000Z
DTEND:20200723T210000Z
LOCATION:
SUMMARY:Zabolátlan lovaim
DESCRIPTION:Kollár Klemencz László\,  Farkas Róbert és Dargay Marcell 
 lírai dalestje Kollár-Klemencz László két nagyszerű zenésszel együt
 t készítette el új produkcióját. Farkas Róbert hegedűművész\,  a B
 udapest Bár vezetője\,  valamint Dargay Marcell\,  a Katona József Szín
 ház és más színházak állandó zeneszerzője különleges\,  művészi
  és sok-sok ötlettel teli kíséretet adnak Kollár rendkívül szuggeszt
 ív[..]\nhttps://momkult.hu/events/zabolatlan-lovaim-2/
URL:https://momkult.hu/events/zabolatlan-lovaim-2/
END:VEVENT
END:VCALENDAR