BEGIN:VCALENDAR
VERSION:2.0
PRODID:-//eventon.com NONSGML v1.0//EN
CALSCALE:GREGORIAN
METHOD:PUBLISH
BEGIN:VEVENT
UID:69ea7fa732e48
DTSTAMP:20260423T202303Z
DTSTART:20190425T140000Z
DTEND:20190425T150000Z
LOCATION:
SUMMARY:Beszélő Babakezek
DESCRIPTION:Zentai Kata\,  a Beszélő Babakezek program vezetője 2008 ót
 a tart babajelbeszéd-tanfolyamokat. „Segítem a szülőket\,  hogy boldo
 g\,  kiegyensúlyozott kapcsolatot teremtsenek babáikkal és közösen át
 éljék a beszéd előtti kommunikáció csodáját. Mindez pozitívan hat 
 a gyermekek szellemi és lelki fejlődésére.”- vallja Kata. Bárcsak tu
 dnánk olvasni a babák gondolataiban! Bárcsak el tudnák mondani\,  mi[..
 ]\nhttps://momkult.hu/events/beszelo-babakezek/
URL:https://momkult.hu/events/beszelo-babakezek/
END:VEVENT
END:VCALENDAR