BEGIN:VCALENDAR
VERSION:2.0
PRODID:-//eventon.com NONSGML v1.0//EN
CALSCALE:GREGORIAN
METHOD:PUBLISH
BEGIN:VEVENT
UID:69e8edbf81288
DTSTAMP:20260422T154815Z
DTSTART:20200716T180000Z
DTEND:20200716T193000Z
LOCATION:
SUMMARY:ErdÅ‘fÅ±
DESCRIPTION:Az ErdÅ‘fÅ± a KÃ¡rpÃ¡t-medence magyarlakta terÃ¼letei Ã©s a Mag
 yarorszÃ¡gon Ã©lÅ‘ etnikumok vonÃ³s nÃ©pzenÃ©jÃ©nek sokszÃ­nÅ±sÃ©gÃ©t mutat
 ja be a kÃ¶zremÅ±kÃ¶dÅ‘ zenÃ©szek virtuozitÃ¡sÃ¡ban. A kÃ¼lÃ¶nbÃ¶zÅ‘ tÃ¡jeg
 ysÃ©gek zenei bemutatÃ¡sa harmonikus hirtelensÃ©gben vÃ¡lik teljes Ã©rtÃ©kÅ
 ± termÃ©szetessÃ©ggÃ© a formÃ¡ciÃ³ Ã¡ltal. Hangszeres nÃ©pzene a javÃ¡bÃ³l!
  Ã‰nek Ã©s tÃ¡nc\,  pÃ¶rgÅ‘s Ã©s sÃ­rva-vigadÃ³s lÃ¡bdobbantÃ³s hetykezene.
  A zenekar tagjai: Ã‰ri[..]\nhttps://momkult.hu/events/erdofu/
URL:https://momkult.hu/events/erdofu/
END:VEVENT
END:VCALENDAR