BEGIN:VCALENDAR
VERSION:2.0
PRODID:-//eventon.com NONSGML v1.0//EN
CALSCALE:GREGORIAN
METHOD:PUBLISH
BEGIN:VEVENT
UID:69e8b395a74f4
DTSTAMP:20260422T114005Z
DTSTART:20200912T180000Z
DTEND:20200912T193000Z
LOCATION:
SUMMARY:Redbreast Wilson & the Mad Dogs Margaritas
DESCRIPTION:Sam “Redbreast” Wilsont a magyar közönség az utóbbi év
 ekben Észak-Mississippi zenekarával\,  a Juke Joint Revivallel láthatta 
 leggyakrabban. A Globan Texan Chronicles által az “egyik legtehetségese
 bb klasszikus bluest játszó modern formációnak” tartott zenekara utá
 n Mr. Wilson legújabb\,  Americana formációjával látogat el a Sirály 
 sétányra. A Mad Dog Margaritas kíséretében Texas forró[..]\nhttps://m
 omkult.hu/events/redbreast-wilson-the-mad-dogs-margaritas/
URL:https://momkult.hu/events/redbreast-wilson-the-mad-dogs-margaritas/
END:VEVENT
END:VCALENDAR