BEGIN:VCALENDAR
VERSION:2.0
PRODID:-//eventon.com NONSGML v1.0//EN
CALSCALE:GREGORIAN
METHOD:PUBLISH
BEGIN:VEVENT
UID:69e8edd56969c
DTSTAMP:20260422T154837Z
DTSTART:20200725T180000Z
DTEND:20200725T210000Z
LOCATION:
SUMMARY:Fröcccs Trió & David Yengibarian Trió
DESCRIPTION:// FRÖCCC TRIÓ &#8212; a bugi\,  a sramli\,  a swing\,  a hip
 hop és a free jazz metszéspontja A hangzás origója a ritkán szólaltat
 ott Helikon hangszer\,  mely leginkább a tuba testvérének tekinthető (f
 őként a Balkánon használják mint rezesbandák basszus hangszere). A ko
 ncerten elhangzanak a formáció saját szerzeményein túl újragondolt é
 s hangszerelt[..]\nhttps://momkult.hu/events/frocccs-trio-david-yengibarian
 -trio/
URL:https://momkult.hu/events/frocccs-trio-david-yengibarian-trio/
END:VEVENT
END:VCALENDAR