BEGIN:VCALENDAR
VERSION:2.0
PRODID:-//eventon.com NONSGML v1.0//EN
CALSCALE:GREGORIAN
METHOD:PUBLISH
BEGIN:VEVENT
UID:69e8eddfb1510
DTSTAMP:20260422T154847Z
DTSTART:20200705T093000Z
DTEND:20200705T104000Z
LOCATION:
SUMMARY:Játszóházi rokkendroll – Kárász Eszter
DESCRIPTION:Vidám\,  táncos utazás\,  ahol lesz rokkendroll\,  balkáni 
 dinnyetánc\,  mangók tangója\,  meg persze a nagy közös erdei muzsiká
 lás után álomőrző esti mese is\,  amiből kiderül\,  milyen történe
 teket rejtenek a legfelső polcon megbújó régi könyvek\,  hogy miért h
 osszú a zsiráf nyaka\,  hogyan lehet kiugrasztani a magot a dinnyéből\,
   illetve mi a teendő\, [..]\nhttps://momkult.hu/events/jatszohazi-rokkend
 roll-karasz-eszter/
URL:https://momkult.hu/events/jatszohazi-rokkendroll-karasz-eszter/
END:VEVENT
END:VCALENDAR