BEGIN:VCALENDAR
VERSION:2.0
PRODID:-//eventon.com NONSGML v1.0//EN
CALSCALE:GREGORIAN
METHOD:PUBLISH
BEGIN:VEVENT
UID:69e8797425bf6
DTSTAMP:20260422T073204Z
DTSTART:20201223T190000Z
DTEND:20201223T203000Z
LOCATION:
SUMMARY:Csányi Sándor színházi estje | Hogyan értsük félre a nőket?
DESCRIPTION:Kedves Nézőink! Tájékoztatjuk Önöket\,  hogy a 2020.novem
 ber.10-én éjféltől életbe lépő kormányrendeletnek megfelelően a 20
 20.december.31-ig meghirdetett\,  Hogyan értsük félre a nőket? előadá
 sok későbbi időpontban kerülnek megrendezésre. Az új időpontról a r
 endezvényekre vonatkozó intézkedések feloldását követően küldjük 
 a tájékoztatást\,  addig is kérjük szíves türelmüket. A megváltott
  jegyek automatikusan érvényesek a pótelőadásra azokkal[..]\nhttps://m
 omkult.hu/events/csanyi-sandor-szinhazi-estje-hogyan-ertsuk-felre-a-noket-2
 5/
URL:https://momkult.hu/events/csanyi-sandor-szinhazi-estje-hogyan-ertsuk-felre-a-noket-25/
END:VEVENT
END:VCALENDAR