BEGIN:VCALENDAR
VERSION:2.0
PRODID:-//eventon.com NONSGML v1.0//EN
CALSCALE:GREGORIAN
METHOD:PUBLISH
BEGIN:VEVENT
UID:69e8edfa4cf34
DTSTAMP:20260422T154914Z
DTSTART:20200619T190000Z
DTEND:20200619T000000Z
LOCATION:
SUMMARY:Zurgó
DESCRIPTION:Moldvai csángó népzene\,  tánctanítás\,  daltanítás. Sz
 eretettel várjuk régi és új ismerőseinket\,  barátainkat\,  a Zurgó
  Együttes moldvai csángó magyar táncházába. Felnőtt táncház20:00-2
 1:00 | tánctanítás  21:00-22:00 | táncház 22:00-22:20 | énektanulás
 \,  közös éneklés  22:20-22:30 | mese 22:30-00:30 | táncház Elmarad\
 nhttps://momkult.hu/events/zurgo-0619-2/
URL:https://momkult.hu/events/zurgo-0619-2/
END:VEVENT
END:VCALENDAR