BEGIN:VCALENDAR
VERSION:2.0
PRODID:-//eventon.com NONSGML v1.0//EN
CALSCALE:GREGORIAN
METHOD:PUBLISH
BEGIN:VEVENT
UID:69ec09543c5f6
DTSTAMP:20260425T002244Z
DTSTART:20180911T180000Z
DTEND:20180911T200000Z
LOCATION:
SUMMARY:Édeskettes
DESCRIPTION:Rendhagyó szórakoztató színpadi sütő-show\,  Liptai Claud
 ia és Pataki Ádám közös könyve alapján\,  sajátos humorral fűszere
 zve. humoros színpadi sütő-show Liptai Claudia és Pataki Ádám könyve
  alapjánJátékmesterek Liptai Claudia\,  Pataki Ádám Szereplők Ábel A
 nita\,  Csonka András\nhttps://momkult.hu/events/edeskettes/
URL:https://momkult.hu/events/edeskettes/
END:VEVENT
END:VCALENDAR