BEGIN:VCALENDAR
VERSION:2.0
PRODID:-//eventon.com NONSGML v1.0//EN
CALSCALE:GREGORIAN
METHOD:PUBLISH
BEGIN:VEVENT
UID:69e924cc1c4a6
DTSTAMP:20260422T194308Z
DTSTART:20200311
DTEND:20200312
LOCATION:
SUMMARY:KÖZLEMÉNY a koronavírus kapcsán
DESCRIPTION:Tisztelt Látogatóink! A Kormány 46/2020. (III.16.) Korm. ren
 delete alapján a MOM Kulturális Központ Nonprofit Kft tagintézményei\,
   valamint az üzemeltetésében álló telephelyek\,  mint közművelődé
 si intézmények pillanatnyilag látogatási tilalom alatt állnak. Megért
 ésüket köszönjük! Programjainkat partnereinkkel közös egyeztetés ut
 án új időpontra helyezzük át\,  vagy azok véglegesen elmaradnak. ÚJ 
 IDŐPONT ELMARAD DÍJTALAN KULTURÁLIS PROGRAMOK:[..]\nhttps://momkult.hu/e
 vents/kozlemeny-a-koronavirus-kapcsan/
URL:https://momkult.hu/events/kozlemeny-a-koronavirus-kapcsan/
END:VEVENT
END:VCALENDAR