BEGIN:VCALENDAR
VERSION:2.0
PRODID:-//eventon.com NONSGML v1.0//EN
CALSCALE:GREGORIAN
METHOD:PUBLISH
BEGIN:VEVENT
UID:69ec1bf93d594
DTSTAMP:20260425T014217Z
DTSTART:20180906T160000Z
DTEND:20180906T173000Z
LOCATION:
SUMMARY:Aradi Filharmónia vonós zenekara
DESCRIPTION:Arad városa és a Hegyvidék között 2010 óta tart a szoros 
 kulturális kötelék. A testvérvárosi kapcsolat jegyében idén ősszel 
 az Aradi Filharmónia Vonószenekara érkezik a MOM Kulturális Központba.
  A vendégfellépésen Dorin Frandes karmester vezénylésével többek kö
 zött Piazzola\,  John Williams\,  Vivaldi és Fritz Kreisler darabjai hang
 zanak el. Vezényel | Dorin Frandeș[..]\nhttps://momkult.hu/events/aradi-f
 ilharmonia-vonos-zenekara/
URL:https://momkult.hu/events/aradi-filharmonia-vonos-zenekara/
END:VEVENT
END:VCALENDAR