BEGIN:VCALENDAR
VERSION:2.0
PRODID:-//eventon.com NONSGML v1.0//EN
CALSCALE:GREGORIAN
METHOD:PUBLISH
BEGIN:VEVENT
UID:69e903a0e1a52
DTSTAMP:20260422T172136Z
DTSTART:20200425T160000Z
DTEND:20200425T173000Z
LOCATION:
SUMMARY:Szarka Gyula: Tücsöklakodalom
DESCRIPTION:A Kormány 46/2020. (III.16.) Korm. rendelete alapján a MOM Ku
 lturális Központ Nonprofit Kft tagintézményei\,  valamint az üzemeltet
 ésében álló telephelyek\,  mint közművelődési intézmények pillan
 atnyilag látogatási tilalom alatt állnak. Szarka Gyula Tücsöklakodalom
  c. koncertje elmarad\,  a programra váltott  jegyeket a vásárlás he
 lyén és módján visszaváltjuk. Amennyiben Ön online vásárolta meg je
 gyét\,  további teendője nincs\,  a[..]\nhttps://momkult.hu/events/szark
 a-gyula-tucsoklakodalom/
URL:https://momkult.hu/events/szarka-gyula-tucsoklakodalom/
END:VEVENT
END:VCALENDAR